<VRTDataset rasterXSize="231250" rasterYSize="234375">
  <SRS dataAxisToSRSAxisMapping="1,2">PROJCS["WGS 84 / NSIDC Sea Ice Polar Stereographic North",GEOGCS["WGS 84",DATUM["WGS_1984",SPHEROID["WGS 84",6378137,298.257223563,AUTHORITY["EPSG","7030"]],AUTHORITY["EPSG","6326"]],PRIMEM["Greenwich",0,AUTHORITY["EPSG","8901"]],UNIT["degree",0.0174532925199433,AUTHORITY["EPSG","9122"]],AUTHORITY["EPSG","4326"]],PROJECTION["Polar_Stereographic"],PARAMETER["latitude_of_origin",70],PARAMETER["central_meridian",-45],PARAMETER["false_easting",0],PARAMETER["false_northing",0],UNIT["metre",1,AUTHORITY["EPSG","9001"]],AXIS["Easting",SOUTH],AXIS["Northing",SOUTH],AUTHORITY["EPSG","3413"]]</SRS>
  <GeoTransform> -4.0000000000000000e+06,  3.2000000000000000e+01,  0.0000000000000000e+00,  4.1000000000000000e+06,  0.0000000000000000e+00, -3.2000000000000000e+01</GeoTransform>
  <VRTRasterBand dataType="Float32" band="1">
    <NoDataValue>-9999</NoDataValue>
    <ColorInterp>Gray</ColorInterp>
    <ComplexSource>
      <SourceFilename relativeToVRT="1">07_40/07_40_32m_v3.0_reg_dem.tif</SourceFilename>
      <SourceBand>1</SourceBand>
      <SourceProperties RasterXSize="3125" RasterYSize="3125" DataType="Float32" BlockXSize="512" BlockYSize="512" />
      <SrcRect xOff="0" yOff="0" xSize="3125" ySize="3125" />
      <DstRect xOff="121875" yOff="231250" xSize="3125" ySize="3125" />
      <NODATA>-9999</NODATA>
    </ComplexSource>
    <ComplexSource>
      <SourceFilename relativeToVRT="1">07_41/07_41_32m_v3.0_reg_dem.tif</SourceFilename>
      <SourceBand>1</SourceBand>
      <SourceProperties RasterXSize="3125" RasterYSize="3125" DataType="Float32" BlockXSize="512" BlockYSize="512" />
      <SrcRect xOff="0" yOff="0" xSize="3125" ySize="3125" />
      <DstRect xOff="125000" yOff="231250" xSize="3125" ySize="3125" />
      <NODATA>-9999</NODATA>
    </ComplexSource>
    <ComplexSource>
      <SourceFilename relativeToVRT="1">07_42/07_42_32m_v3.0_reg_dem.tif</SourceFilename>
      <SourceBand>1</SourceBand>
      <SourceProperties RasterXSize="3125" RasterYSize="3125" DataType="Float32" BlockXSize="512" BlockYSize="512" />
      <SrcRect xOff="0" yOff="0" xSize="3125" ySize="3125" />
      <DstRect xOff="128125" yOff="231250" xSize="3125" ySize="3125" />
      <NODATA>-9999</NODATA>
    </ComplexSource>
    <ComplexSource>
      <SourceFilename relativeToVRT="1">08_39/08_39_32m_v3.0_reg_dem.tif</SourceFilename>
      <SourceBand>1</SourceBand>
      <SourceProperties RasterXSize="3125" RasterYSize="3125" DataType="Float32" BlockXSize="512" BlockYSize="512" />
      <SrcRect xOff="0" yOff="0" xSize="3125" ySize="3125" />
      <DstRect xOff="118750" yOff="228125" xSize="3125" ySize="3125" />
      <NODATA>-9999</NODATA>
    </ComplexSource>
    <ComplexSource>
      <SourceFilename relativeToVRT="1">08_40/08_40_32m_v3.0_reg_dem.tif</SourceFilename>
      <SourceBand>1</SourceBand>
      <SourceProperties RasterXSize="3125" RasterYSize="3125" DataType="Float32" BlockXSize="512" BlockYSize="512" />
      <SrcRect xOff="0" yOff="0" xSize="3125" ySize="3125" />
      <DstRect xOff="121875" yOff="228125" xSize="3125" ySize="3125" />
      <NODATA>-9999</NODATA>
    </ComplexSource>
    <ComplexSource>
      <SourceFilename relativeToVRT="1">08_41/08_41_32m_v3.0_reg_dem.tif</SourceFilename>
      <SourceBand>1</SourceBand>
      <SourceProperties RasterXSize="3125" RasterYSize="3125" DataType="Float32" BlockXSize="512" BlockYSize="512" />
      <SrcRect xOff="0" yOff="0" xSize="3125" ySize="3125" />
      <DstRect xOff="125000" yOff="228125" xSize="3125" ySize="3125" />
      <NODATA>-9999</NODATA>
    </ComplexSource>
    <ComplexSource>
      <SourceFilename relativeToVRT="1">08_42/08_42_32m_v3.0_reg_dem.tif</SourceFilename>
      <SourceBand>1</SourceBand>
      <SourceProperties RasterXSize="3125" RasterYSize="3125" DataType="Float32" BlockXSize="512" BlockYSize="512" />
      <SrcRect xOff="0" yOff="0" xSize="3125" ySize="3125" />
      <DstRect xOff="128125" yOff="228125" xSize="3125" ySize="3125" />
      <NODATA>-9999</NODATA>
    </ComplexSource>
    <ComplexSource>
      <SourceFilename relativeToVRT="1">09_29/09_29_32m_v3.0_reg_dem.tif</SourceFilename>
      <SourceBand>1</SourceBand>
      <SourceProperties RasterXSize="3125" RasterYSize="3125" DataType="Float32" BlockXSize="512" BlockYSize="512" />
      <SrcRect xOff="0" yOff="0" xSize="3125" ySize="3125" />
      <DstRect xOff="87500" yOff="225000" xSize="3125" ySize="3125" />
      <NODATA>-9999</NODATA>
    </ComplexSource>
    <ComplexSource>
      <SourceFilename relativeToVRT="1">09_30/09_30_32m_v3.0_reg_dem.tif</SourceFilename>
      <SourceBand>1</SourceBand>
      <SourceProperties RasterXSize="3125" RasterYSize="3125" DataType="Float32" BlockXSize="512" BlockYSize="512" />
      <SrcRect xOff="0" yOff="0" xSize="3125" ySize="3125" />
      <DstRect xOff="90625" yOff="225000" xSize="3125" ySize="3125" />
      <NODATA>-9999</NODATA>
    </ComplexSource>
    <ComplexSource>
      <SourceFilename relativeToVRT="1">09_38/09_38_32m_v3.0_reg_dem.tif</SourceFilename>
      <SourceBand>1</SourceBand>
      <SourceProperties RasterXSize="3125" RasterYSize="3125" DataType="Float32" BlockXSize="512" BlockYSize="512" />
      <SrcRect xOff="0" yOff="0" xSize="3125" ySize="3125" />
      <DstRect xOff="115625" yOff="225000" xSize="3125" ySize="3125" />
      <NODATA>-9999</NODATA>
    </ComplexSource>
    <ComplexSource>
      <SourceFilename relativeToVRT="1">09_39/09_39_32m_v3.0_reg_dem.tif</SourceFilename>
      <SourceBand>1</SourceBand>
      <SourceProperties RasterXSize="3125" RasterYSize="3125" DataType="Float32" BlockXSize="512" BlockYSize="512" />
      <SrcRect xOff="0" yOff="0" xSize="3125" ySize="3125" />
      <DstRect xOff="118750" yOff="225000" xSize="3125" ySize="3125" />
      <NODATA>-9999</NODATA>
    </ComplexSource>
    <ComplexSource>
      <SourceFilename relativeToVRT="1">09_40/09_40_32m_v3.0_reg_dem.tif</SourceFilename>
      <SourceBand>1</SourceBand>
      <SourceProperties RasterXSize="3125" RasterYSize="3125" DataType="Float32" BlockXSize="512" BlockYSize="512" />
      <SrcRect xOff="0" yOff="0" xSize="3125" ySize="3125" />
      <DstRect xOff="121875" yOff="225000" xSize="3125" ySize="3125" />
      <NODATA>-9999</NODATA>
    </ComplexSource>
    <ComplexSource>
      <SourceFilename relativeToVRT="1">09_41/09_41_32m_v3.0_reg_dem.tif</SourceFilename>
      <SourceBand>1</SourceBand>
      <SourceProperties RasterXSize="3125" RasterYSize="3125" DataType="Float32" BlockXSize="512" BlockYSize="512" />
      <SrcRect xOff="0" yOff="0" xSize="3125" ySize="3125" />
      <DstRect xOff="125000" yOff="225000" xSize="3125" ySize="3125" />
      <NODATA>-9999</NODATA>
    </ComplexSource>
    <ComplexSource>
      <SourceFilename relativeToVRT="1">09_42/09_42_32m_v3.0_reg_dem.tif</SourceFilename>
      <SourceBand>1</SourceBand>
      <SourceProperties RasterXSize="3125" RasterYSize="3125" DataType="Float32" BlockXSize="512" BlockYSize="512" />
      <SrcRect xOff="0" yOff="0" xSize="3125" ySize="3125" />
      <DstRect xOff="128125" yOff="225000" xSize="3125" ySize="3125" />
      <NODATA>-9999</NODATA>
    </ComplexSource>
    <ComplexSource>
      <SourceFilename relativeToVRT="1">10_26/10_26_32m_v3.0_reg_dem.tif</SourceFilename>
      <SourceBand>1</SourceBand>
      <SourceProperties RasterXSize="3125" RasterYSize="3125" DataType="Float32" BlockXSize="512" BlockYSize="512" />
      <SrcRect xOff="0" yOff="0" xSize="3125" ySize="3125" />
      <DstRect xOff="78125" yOff="221875" xSize="3125" ySize="3125" />
      <NODATA>-9999</NODATA>
    </ComplexSource>
    <ComplexSource>
      <SourceFilename relativeToVRT="1">10_27/10_27_32m_v3.0_reg_dem.tif</SourceFilename>
      <SourceBand>1</SourceBand>
      <SourceProperties RasterXSize="3125" RasterYSize="3125" DataType="Float32" BlockXSize="512" BlockYSize="512" />
      <SrcRect xOff="0" yOff="0" xSize="3125" ySize="3125" />
      <DstRect xOff="81250" yOff="221875" xSize="3125" ySize="3125" />
      <NODATA>-9999</NODATA>
    </ComplexSource>
    <ComplexSource>
      <SourceFilename relativeToVRT="1">10_28/10_28_32m_v3.0_reg_dem.tif</SourceFilename>
      <SourceBand>1</SourceBand>
      <SourceProperties RasterXSize="3125" RasterYSize="3125" DataType="Float32" BlockXSize="512" BlockYSize="512" />
      <SrcRect xOff="0" yOff="0" xSize="3125" ySize="3125" />
      <DstRect xOff="84375" yOff="221875" xSize="3125" ySize="3125" />
      <NODATA>-9999</NODATA>
    </ComplexSource>
    <ComplexSource>
      <SourceFilename relativeToVRT="1">10_29/10_29_32m_v3.0_reg_dem.tif</SourceFilename>
      <SourceBand>1</SourceBand>
      <SourceProperties RasterXSize="3125" RasterYSize="3125" DataType="Float32" BlockXSize="512" BlockYSize="512" />
      <SrcRect xOff="0" yOff="0" xSize="3125" ySize="3125" />
      <DstRect xOff="87500" yOff="221875" xSize="3125" ySize="3125" />
      <NODATA>-9999</NODATA>
    </ComplexSource>
    <ComplexSource>
      <SourceFilename relativeToVRT="1">10_30/10_30_32m_v3.0_reg_dem.tif</SourceFilename>
      <SourceBand>1</SourceBand>
      <SourceProperties RasterXSize="3125" RasterYSize="3125" DataType="Float32" BlockXSize="512" BlockYSize="512" />
      <SrcRect xOff="0" yOff="0" xSize="3125" ySize="3125" />
      <DstRect xOff="90625" yOff="221875" xSize="3125" ySize="3125" />
      <NODATA>-9999</NODATA>
    </ComplexSource>
    <ComplexSource>
      <SourceFilename relativeToVRT="1">10_38/10_38_32m_v3.0_reg_dem.tif</SourceFilename>
      <SourceBand>1</SourceBand>
      <SourceProperties RasterXSize="3125" RasterYSize="3125" DataType="Float32" BlockXSize="512" BlockYSize="512" />
      <SrcRect xOff="0" yOff="0" xSize="3125" ySize="3125" />
      <DstRect xOff="115625" yOff="221875" xSize="3125" ySize="3125" />
      <NODATA>-9999</NODATA>
    </ComplexSource>
    <ComplexSource>
      <SourceFilename relativeToVRT="1">10_39/10_39_32m_v3.0_reg_dem.tif</SourceFilename>
      <SourceBand>1</SourceBand>
      <SourceProperties RasterXSize="3125" RasterYSize="3125" DataType="Float32" BlockXSize="512" BlockYSize="512" />
      <SrcRect xOff="0" yOff="0" xSize="3125" ySize="3125" />
      <DstRect xOff="118750" yOff="221875" xSize="3125" ySize="3125" />
      <NODATA>-9999</NODATA>
    </ComplexSource>
    <ComplexSource>
      <SourceFilename relativeToVRT="1">10_40/10_40_32m_v3.0_reg_dem.tif</SourceFilename>
      <SourceBand>1</SourceBand>
      <SourceProperties RasterXSize="3125" RasterYSize="3125" DataType="Float32" BlockXSize="512" BlockYSize="512" />
      <SrcRect xOff="0" yOff="0" xSize="3125" ySize="3125" />
      <DstRect xOff="121875" yOff="221875" xSize="3125" ySize="3125" />
      <NODATA>-9999</NODATA>
    </ComplexSource>
    <ComplexSource>
      <SourceFilename relativeToVRT="1">10_41/10_41_32m_v3.0_reg_dem.tif</SourceFilename>
      <SourceBand>1</SourceBand>
      <SourceProperties RasterXSize="3125" RasterYSize="3125" DataType="Float32" BlockXSize="512" BlockYSize="512" />
      <SrcRect xOff="0" yOff="0" xSize="3125" ySize="3125" />
      <DstRect xOff="125000" yOff="221875" xSize="3125" ySize="3125" />
      <NODATA>-9999</NODATA>
    </ComplexSource>
    <ComplexSource>
      <SourceFilename relativeToVRT="1">10_42/10_42_32m_v3.0_reg_dem.tif</SourceFilename>
      <SourceBand>1</SourceBand>
      <SourceProperties RasterXSize="3125" RasterYSize="3125" DataType="Float32" BlockXSize="512" BlockYSize="512" />
      <SrcRect xOff="0" yOff="0" xSize="3125" ySize="3125" />
      <DstRect xOff="128125" yOff="221875" xSize="3125" ySize="3125" />
      <NODATA>-9999</NODATA>
    </ComplexSource>
    <ComplexSource>
      <SourceFilename relativeToVRT="1">11_24/11_24_32m_v3.0_reg_dem.tif</SourceFilename>
      <SourceBand>1</SourceBand>
      <SourceProperties RasterXSize="3125" RasterYSize="3125" DataType="Float32" BlockXSize="512" BlockYSize="512" />
      <SrcRect xOff="0" yOff="0" xSize="3125" ySize="3125" />
      <DstRect xOff="71875" yOff="218750" xSize="3125" ySize="3125" />
      <NODATA>-9999</NODATA>
    </ComplexSource>
    <ComplexSource>
      <SourceFilename relativeToVRT="1">11_25/11_25_32m_v3.0_reg_dem.tif</SourceFilename>
      <SourceBand>1</SourceBand>
      <SourceProperties RasterXSize="3125" RasterYSize="3125" DataType="Float32" BlockXSize="512" BlockYSize="512" />
      <SrcRect xOff="0" yOff="0" xSize="3125" ySize="3125" />
      <DstRect xOff="75000" yOff="218750" xSize="3125" ySize="3125" />
      <NODATA>-9999</NODATA>
    </ComplexSource>
    <ComplexSource>
      <SourceFilename relativeToVRT="1">11_26/11_26_32m_v3.0_reg_dem.tif</SourceFilename>
      <SourceBand>1</SourceBand>
      <SourceProperties RasterXSize="3125" RasterYSize="3125" DataType="Float32" BlockXSize="512" BlockYSize="512" />
      <SrcRect xOff="0" yOff="0" xSize="3125" ySize="3125" />
      <DstRect xOff="78125" yOff="218750" xSize="3125" ySize="3125" />
      <NODATA>-9999</NODATA>
    </ComplexSource>
    <ComplexSource>
      <SourceFilename relativeToVRT="1">11_27/11_27_32m_v3.0_reg_dem.tif</SourceFilename>
      <SourceBand>1</SourceBand>
      <SourceProperties RasterXSize="3125" RasterYSize="3125" DataType="Float32" BlockXSize="512" BlockYSize="512" />
      <SrcRect xOff="0" yOff="0" xSize="3125" ySize="3125" />
      <DstRect xOff="81250" yOff="218750" xSize="3125" ySize="3125" />
      <NODATA>-9999</NODATA>
    </ComplexSource>
    <ComplexSource>
      <SourceFilename relativeToVRT="1">11_28/11_28_32m_v3.0_reg_dem.tif</SourceFilename>
      <SourceBand>1</SourceBand>
      <SourceProperties RasterXSize="3125" RasterYSize="3125" DataType="Float32" BlockXSize="512" BlockYSize="512" />
      <SrcRect xOff="0" yOff="0" xSize="3125" ySize="3125" />
      <DstRect xOff="84375" yOff="218750" xSize="3125" ySize="3125" />
      <NODATA>-9999</NODATA>
    </ComplexSource>
    <ComplexSource>
      <SourceFilename relativeToVRT="1">11_29/11_29_32m_v3.0_reg_dem.tif</SourceFilename>
      <SourceBand>1</SourceBand>
      <SourceProperties RasterXSize="3125" RasterYSize="3125" DataType="Float32" BlockXSize="512" BlockYSize="512" />
      <SrcRect xOff="0" yOff="0" xSize="3125" ySize="3125" />
      <DstRect xOff="87500" yOff="218750" xSize="3125" ySize="3125" />
      <NODATA>-9999</NODATA>
    </ComplexSource>
    <ComplexSource>
      <SourceFilename relativeToVRT="1">11_30/11_30_32m_v3.0_reg_dem.tif</SourceFilename>
      <SourceBand>1</SourceBand>
      <SourceProperties RasterXSize="3125" RasterYSize="3125" DataType="Float32" BlockXSize="512" BlockYSize="512" />
      <SrcRect xOff="0" yOff="0" xSize="3125" ySize="3125" />
      <DstRect xOff="90625" yOff="218750" xSize="3125" ySize="3125" />
      <NODATA>-9999</NODATA>
    </ComplexSource>
    <ComplexSource>
      <SourceFilename relativeToVRT="1">11_37/11_37_32m_v3.0_reg_dem.tif</SourceFilename>
      <SourceBand>1</SourceBand>
      <SourceProperties RasterXSize="3125" RasterYSize="3125" DataType="Float32" BlockXSize="512" BlockYSize="512" />
      <SrcRect xOff="0" yOff="0" xSize="3125" ySize="3125" />
      <DstRect xOff="112500" yOff="218750" xSize="3125" ySize="3125" />
      <NODATA>-9999</NODATA>
    </ComplexSource>
    <ComplexSource>
      <SourceFilename relativeToVRT="1">11_38/11_38_32m_v3.0_reg_dem.tif</SourceFilename>
      <SourceBand>1</SourceBand>
      <SourceProperties RasterXSize="3125" RasterYSize="3125" DataType="Float32" BlockXSize="512" BlockYSize="512" />
      <SrcRect xOff="0" yOff="0" xSize="3125" ySize="3125" />
      <DstRect xOff="115625" yOff="218750" xSize="3125" ySize="3125" />
      <NODATA>-9999</NODATA>
    </ComplexSource>
    <ComplexSource>
      <SourceFilename relativeToVRT="1">11_39/11_39_32m_v3.0_reg_dem.tif</SourceFilename>
      <SourceBand>1</SourceBand>
      <SourceProperties RasterXSize="3125" RasterYSize="3125" DataType="Float32" BlockXSize="512" BlockYSize="512" />
      <SrcRect xOff="0" yOff="0" xSize="3125" ySize="3125" />
      <DstRect xOff="118750" yOff="218750" xSize="3125" ySize="3125" />
      <NODATA>-9999</NODATA>
    </ComplexSource>
    <ComplexSource>
      <SourceFilename relativeToVRT="1">11_40/11_40_32m_v3.0_reg_dem.tif</SourceFilename>
      <SourceBand>1</SourceBand>
      <SourceProperties RasterXSize="3125" RasterYSize="3125" DataType="Float32" BlockXSize="512" BlockYSize="512" />
      <SrcRect xOff="0" yOff="0" xSize="3125" ySize="3125" />
      <DstRect xOff="121875" yOff="218750" xSize="3125" ySize="3125" />
      <NODATA>-9999</NODATA>
    </ComplexSource>
    <ComplexSource>
      <SourceFilename relativeToVRT="1">11_41/11_41_32m_v3.0_reg_dem.tif</SourceFilename>
      <SourceBand>1</SourceBand>
      <SourceProperties RasterXSize="3125" RasterYSize="3125" DataType="Float32" BlockXSize="512" BlockYSize="512" />
      <SrcRect xOff="0" yOff="0" xSize="3125" ySize="3125" />
      <DstRect xOff="125000" yOff="218750" xSize="3125" ySize="3125" />
      <NODATA>-9999</NODATA>
    </ComplexSource>
    <ComplexSource>
      <SourceFilename relativeToVRT="1">11_42/11_42_32m_v3.0_reg_dem.tif</SourceFilename>
      <SourceBand>1</SourceBand>
      <SourceProperties RasterXSize="3125" RasterYSize="3125" DataType="Float32" BlockXSize="512" BlockYSize="512" />
      <SrcRect xOff="0" yOff="0" xSize="3125" ySize="3125" />
      <DstRect xOff="128125" yOff="218750" xSize="3125" ySize="3125" />
      <NODATA>-9999</NODATA>
    </ComplexSource>
    <ComplexSource>
      <SourceFilename relativeToVRT="1">11_43/11_43_32m_v3.0_reg_dem.tif</SourceFilename>
      <SourceBand>1</SourceBand>
      <SourceProperties RasterXSize="3125" RasterYSize="3125" DataType="Float32" BlockXSize="512" BlockYSize="512" />
      <SrcRect xOff="0" yOff="0" xSize="3125" ySize="3125" />
      <DstRect xOff="131250" yOff="218750" xSize="3125" ySize="3125" />
      <NODATA>-9999</NODATA>
    </ComplexSource>
    <ComplexSource>
      <SourceFilename relativeToVRT="1">12_23/12_23_32m_v3.0_reg_dem.tif</SourceFilename>
      <SourceBand>1</SourceBand>
      <SourceProperties RasterXSize="3125" RasterYSize="3125" DataType="Float32" BlockXSize="512" BlockYSize="512" />
      <SrcRect xOff="0" yOff="0" xSize="3125" ySize="3125" />
      <DstRect xOff="68750" yOff="215625" xSize="3125" ySize="3125" />
      <NODATA>-9999</NODATA>
    </ComplexSource>
    <ComplexSource>
      <SourceFilename relativeToVRT="1">12_24/12_24_32m_v3.0_reg_dem.tif</SourceFilename>
      <SourceBand>1</SourceBand>
      <SourceProperties RasterXSize="3125" RasterYSize="3125" DataType="Float32" BlockXSize="512" BlockYSize="512" />
      <SrcRect xOff="0" yOff="0" xSize="3125" ySize="3125" />
      <DstRect xOff="71875" yOff="215625" xSize="3125" ySize="3125" />
      <NODATA>-9999</NODATA>
    </ComplexSource>
    <ComplexSource>
      <SourceFilename relativeToVRT="1">12_25/12_25_32m_v3.0_reg_dem.tif</SourceFilename>
      <SourceBand>1</SourceBand>
      <SourceProperties RasterXSize="3125" RasterYSize="3125" DataType="Float32" BlockXSize="512" BlockYSize="512" />
      <SrcRect xOff="0" yOff="0" xSize="3125" ySize="3125" />
      <DstRect xOff="75000" yOff="215625" xSize="3125" ySize="3125" />
      <NODATA>-9999</NODATA>
    </ComplexSource>
    <ComplexSource>
      <SourceFilename relativeToVRT="1">12_26/12_26_32m_v3.0_reg_dem.tif</SourceFilename>
      <SourceBand>1</SourceBand>
      <SourceProperties RasterXSize="3125" RasterYSize="3125" DataType="Float32" BlockXSize="512" BlockYSize="512" />
      <SrcRect xOff="0" yOff="0" xSize="3125" ySize="3125" />
      <DstRect xOff="78125" yOff="215625" xSize="3125" ySize="3125" />
      <NODATA>-9999</NODATA>
    </ComplexSource>
    <ComplexSource>
      <SourceFilename relativeToVRT="1">12_27/12_27_32m_v3.0_reg_dem.tif</SourceFilename>
      <SourceBand>1</SourceBand>
      <SourceProperties RasterXSize="3125" RasterYSize="3125" DataType="Float32" BlockXSize="512" BlockYSize="512" />
      <SrcRect xOff="0" yOff="0" xSize="3125" ySize="3125" />
      <DstRect xOff="81250" yOff="215625" xSize="3125" ySize="3125" />
      <NODATA>-9999</NODATA>
    </ComplexSource>
    <ComplexSource>
      <SourceFilename relativeToVRT="1">12_28/12_28_32m_v3.0_reg_dem.tif</SourceFilename>
      <SourceBand>1</SourceBand>
      <SourceProperties RasterXSize="3125" RasterYSize="3125" DataType="Float32" BlockXSize="512" BlockYSize="512" />
      <SrcRect xOff="0" yOff="0" xSize="3125" ySize="3125" />
      <DstRect xOff="84375" yOff="215625" xSize="3125" ySize="3125" />
      <NODATA>-9999</NODATA>
    </ComplexSource>
    <ComplexSource>
      <SourceFilename relativeToVRT="1">12_29/12_29_32m_v3.0_reg_dem.tif</SourceFilename>
      <SourceBand>1</SourceBand>
      <SourceProperties RasterXSize="3125" RasterYSize="3125" DataType="Float32" BlockXSize="512" BlockYSize="512" />
      <SrcRect xOff="0" yOff="0" xSize="3125" ySize="3125" />
      <DstRect xOff="87500" yOff="215625" xSize="3125" ySize="3125" />
      <NODATA>-9999</NODATA>
    </ComplexSource>
    <ComplexSource>
      <SourceFilename relativeToVRT="1">12_30/12_30_32m_v3.0_reg_dem.tif</SourceFilename>
      <SourceBand>1</SourceBand>
      <SourceProperties RasterXSize="3125" RasterYSize="3125" DataType="Float32" BlockXSize="512" BlockYSize="512" />
      <SrcRect xOff="0" yOff="0" xSize="3125" ySize="3125" />
      <DstRect xOff="90625" yOff="215625" xSize="3125" ySize="3125" />
      <NODATA>-9999</NODATA>
    </ComplexSource>
    <ComplexSource>
      <SourceFilename relativeToVRT="1">12_31/12_31_32m_v3.0_reg_dem.tif</SourceFilename>
      <SourceBand>1</SourceBand>
      <SourceProperties RasterXSize="3125" RasterYSize="3125" DataType="Float32" BlockXSize="512" BlockYSize="512" />
      <SrcRect xOff="0" yOff="0" xSize="3125" ySize="3125" />
      <DstRect xOff="93750" yOff="215625" xSize="3125" ySize="3125" />
      <NODATA>-9999</NODATA>
    </ComplexSource>
    <ComplexSource>
      <SourceFilename relativeToVRT="1">12_37/12_37_32m_v3.0_reg_dem.tif</SourceFilename>
      <SourceBand>1</SourceBand>
      <SourceProperties RasterXSize="3125" RasterYSize="3125" DataType="Float32" BlockXSize="512" BlockYSize="512" />
      <SrcRect xOff="0" yOff="0" xSize="3125" ySize="3125" />
      <DstRect xOff="112500" yOff="215625" xSize="3125" ySize="3125" />
      <NODATA>-9999</NODATA>
    </ComplexSource>
    <ComplexSource>
      <SourceFilename relativeToVRT="1">12_38/12_38_32m_v3.0_reg_dem.tif</SourceFilename>
      <SourceBand>1</SourceBand>
      <SourceProperties RasterXSize="3125" RasterYSize="3125" DataType="Float32" BlockXSize="512" BlockYSize="512" />
      <SrcRect xOff="0" yOff="0" xSize="3125" ySize="3125" />
      <DstRect xOff="115625" yOff="215625" xSize="3125" ySize="3125" />
      <NODATA>-9999</NODATA>
    </ComplexSource>
    <ComplexSource>
      <SourceFilename relativeToVRT="1">12_39/12_39_32m_v3.0_reg_dem.tif</SourceFilename>
      <SourceBand>1</SourceBand>
      <SourceProperties RasterXSize="3125" RasterYSize="3125" DataType="Float32" BlockXSize="512" BlockYSize="512" />
      <SrcRect xOff="0" yOff="0" xSize="3125" ySize="3125" />
      <DstRect xOff="118750" yOff="215625" xSize="3125" ySize="3125" />
      <NODATA>-9999</NODATA>
    </ComplexSource>
    <ComplexSource>
      <SourceFilename relativeToVRT="1">12_40/12_40_32m_v3.0_reg_dem.tif</SourceFilename>
      <SourceBand>1</SourceBand>
      <SourceProperties RasterXSize="3125" RasterYSize="3125" DataType="Float32" BlockXSize="512" BlockYSize="512" />
      <SrcRect xOff="0" yOff="0" xSize="3125" ySize="3125" />
      <DstRect xOff="121875" yOff="215625" xSize="3125" ySize="3125" />
      <NODATA>-9999</NODATA>
    </ComplexSource>
    <ComplexSource>
      <SourceFilename relativeToVRT="1">12_41/12_41_32m_v3.0_reg_dem.tif</SourceFilename>
      <SourceBand>1</SourceBand>
      <SourceProperties RasterXSize="3125" RasterYSize="3125" DataType="Float32" BlockXSize="512" BlockYSize="512" />
      <SrcRect xOff="0" yOff="0" xSize="3125" ySize="3125" />
