<VRTDataset rasterXSize="740000" rasterYSize="750000">
  <SRS dataAxisToSRSAxisMapping="1,2">PROJCS["WGS 84 / NSIDC Sea Ice Polar Stereographic North",GEOGCS["WGS 84",DATUM["WGS_1984",SPHEROID["WGS 84",6378137,298.257223563,AUTHORITY["EPSG","7030"]],AUTHORITY["EPSG","6326"]],PRIMEM["Greenwich",0,AUTHORITY["EPSG","8901"]],UNIT["degree",0.0174532925199433,AUTHORITY["EPSG","9122"]],AUTHORITY["EPSG","4326"]],PROJECTION["Polar_Stereographic"],PARAMETER["latitude_of_origin",70],PARAMETER["central_meridian",-45],PARAMETER["false_easting",0],PARAMETER["false_northing",0],UNIT["metre",1,AUTHORITY["EPSG","9001"]],AXIS["Easting",SOUTH],AXIS["Northing",SOUTH],AUTHORITY["EPSG","3413"]]</SRS>
  <GeoTransform> -4.0000000000000000e+06,  1.0000000000000000e+01,  0.0000000000000000e+00,  4.1000000000000000e+06,  0.0000000000000000e+00, -1.0000000000000000e+01</GeoTransform>
  <VRTRasterBand dataType="Float32" band="1">
    <NoDataValue>-9999</NoDataValue>
    <ColorInterp>Gray</ColorInterp>
    <ComplexSource>
      <SourceFilename relativeToVRT="1">07_40/07_40_10m_v3.0_reg_dem.tif</SourceFilename>
      <SourceBand>1</SourceBand>
      <SourceProperties RasterXSize="10000" RasterYSize="10000" DataType="Float32" BlockXSize="512" BlockYSize="512" />
      <SrcRect xOff="0" yOff="0" xSize="10000" ySize="10000" />
      <DstRect xOff="390000" yOff="740000" xSize="10000" ySize="10000" />
      <NODATA>-9999</NODATA>
    </ComplexSource>
    <ComplexSource>
      <SourceFilename relativeToVRT="1">07_41/07_41_10m_v3.0_reg_dem.tif</SourceFilename>
      <SourceBand>1</SourceBand>
      <SourceProperties RasterXSize="10000" RasterYSize="10000" DataType="Float32" BlockXSize="512" BlockYSize="512" />
      <SrcRect xOff="0" yOff="0" xSize="10000" ySize="10000" />
      <DstRect xOff="400000" yOff="740000" xSize="10000" ySize="10000" />
      <NODATA>-9999</NODATA>
    </ComplexSource>
    <ComplexSource>
      <SourceFilename relativeToVRT="1">07_42/07_42_10m_v3.0_reg_dem.tif</SourceFilename>
      <SourceBand>1</SourceBand>
      <SourceProperties RasterXSize="10000" RasterYSize="10000" DataType="Float32" BlockXSize="512" BlockYSize="512" />
      <SrcRect xOff="0" yOff="0" xSize="10000" ySize="10000" />
      <DstRect xOff="410000" yOff="740000" xSize="10000" ySize="10000" />
      <NODATA>-9999</NODATA>
    </ComplexSource>
    <ComplexSource>
      <SourceFilename relativeToVRT="1">08_39/08_39_10m_v3.0_reg_dem.tif</SourceFilename>
      <SourceBand>1</SourceBand>
      <SourceProperties RasterXSize="10000" RasterYSize="10000" DataType="Float32" BlockXSize="512" BlockYSize="512" />
      <SrcRect xOff="0" yOff="0" xSize="10000" ySize="10000" />
      <DstRect xOff="380000" yOff="730000" xSize="10000" ySize="10000" />
      <NODATA>-9999</NODATA>
    </ComplexSource>
    <ComplexSource>
      <SourceFilename relativeToVRT="1">08_40/08_40_10m_v3.0_reg_dem.tif</SourceFilename>
      <SourceBand>1</SourceBand>
      <SourceProperties RasterXSize="10000" RasterYSize="10000" DataType="Float32" BlockXSize="512" BlockYSize="512" />
      <SrcRect xOff="0" yOff="0" xSize="10000" ySize="10000" />
      <DstRect xOff="390000" yOff="730000" xSize="10000" ySize="10000" />
      <NODATA>-9999</NODATA>
    </ComplexSource>
    <ComplexSource>
      <SourceFilename relativeToVRT="1">08_41/08_41_10m_v3.0_reg_dem.tif</SourceFilename>
      <SourceBand>1</SourceBand>
      <SourceProperties RasterXSize="10000" RasterYSize="10000" DataType="Float32" BlockXSize="512" BlockYSize="512" />
      <SrcRect xOff="0" yOff="0" xSize="10000" ySize="10000" />
      <DstRect xOff="400000" yOff="730000" xSize="10000" ySize="10000" />
      <NODATA>-9999</NODATA>
    </ComplexSource>
    <ComplexSource>
      <SourceFilename relativeToVRT="1">08_42/08_42_10m_v3.0_reg_dem.tif</SourceFilename>
      <SourceBand>1</SourceBand>
      <SourceProperties RasterXSize="10000" RasterYSize="10000" DataType="Float32" BlockXSize="512" BlockYSize="512" />
      <SrcRect xOff="0" yOff="0" xSize="10000" ySize="10000" />
      <DstRect xOff="410000" yOff="730000" xSize="10000" ySize="10000" />
      <NODATA>-9999</NODATA>
    </ComplexSource>
    <ComplexSource>
      <SourceFilename relativeToVRT="1">09_29/09_29_10m_v3.0_reg_dem.tif</SourceFilename>
      <SourceBand>1</SourceBand>
      <SourceProperties RasterXSize="10000" RasterYSize="10000" DataType="Float32" BlockXSize="512" BlockYSize="512" />
      <SrcRect xOff="0" yOff="0" xSize="10000" ySize="10000" />
      <DstRect xOff="280000" yOff="720000" xSize="10000" ySize="10000" />
      <NODATA>-9999</NODATA>
    </ComplexSource>
    <ComplexSource>
      <SourceFilename relativeToVRT="1">09_30/09_30_10m_v3.0_reg_dem.tif</SourceFilename>
      <SourceBand>1</SourceBand>
      <SourceProperties RasterXSize="10000" RasterYSize="10000" DataType="Float32" BlockXSize="512" BlockYSize="512" />
      <SrcRect xOff="0" yOff="0" xSize="10000" ySize="10000" />
      <DstRect xOff="290000" yOff="720000" xSize="10000" ySize="10000" />
      <NODATA>-9999</NODATA>
    </ComplexSource>
    <ComplexSource>
      <SourceFilename relativeToVRT="1">09_38/09_38_10m_v3.0_reg_dem.tif</SourceFilename>
      <SourceBand>1</SourceBand>
      <SourceProperties RasterXSize="10000" RasterYSize="10000" DataType="Float32" BlockXSize="512" BlockYSize="512" />
      <SrcRect xOff="0" yOff="0" xSize="10000" ySize="10000" />
      <DstRect xOff="370000" yOff="720000" xSize="10000" ySize="10000" />
      <NODATA>-9999</NODATA>
    </ComplexSource>
    <ComplexSource>
      <SourceFilename relativeToVRT="1">09_39/09_39_10m_v3.0_reg_dem.tif</SourceFilename>
      <SourceBand>1</SourceBand>
      <SourceProperties RasterXSize="10000" RasterYSize="10000" DataType="Float32" BlockXSize="512" BlockYSize="512" />
      <SrcRect xOff="0" yOff="0" xSize="10000" ySize="10000" />
      <DstRect xOff="380000" yOff="720000" xSize="10000" ySize="10000" />
      <NODATA>-9999</NODATA>
    </ComplexSource>
    <ComplexSource>
      <SourceFilename relativeToVRT="1">09_40/09_40_10m_v3.0_reg_dem.tif</SourceFilename>
      <SourceBand>1</SourceBand>
      <SourceProperties RasterXSize="10000" RasterYSize="10000" DataType="Float32" BlockXSize="512" BlockYSize="512" />
      <SrcRect xOff="0" yOff="0" xSize="10000" ySize="10000" />
      <DstRect xOff="390000" yOff="720000" xSize="10000" ySize="10000" />
      <NODATA>-9999</NODATA>
    </ComplexSource>
    <ComplexSource>
      <SourceFilename relativeToVRT="1">09_41/09_41_10m_v3.0_reg_dem.tif</SourceFilename>
      <SourceBand>1</SourceBand>
      <SourceProperties RasterXSize="10000" RasterYSize="10000" DataType="Float32" BlockXSize="512" BlockYSize="512" />
      <SrcRect xOff="0" yOff="0" xSize="10000" ySize="10000" />
      <DstRect xOff="400000" yOff="720000" xSize="10000" ySize="10000" />
      <NODATA>-9999</NODATA>
    </ComplexSource>
    <ComplexSource>
      <SourceFilename relativeToVRT="1">09_42/09_42_10m_v3.0_reg_dem.tif</SourceFilename>
      <SourceBand>1</SourceBand>
      <SourceProperties RasterXSize="10000" RasterYSize="10000" DataType="Float32" BlockXSize="512" BlockYSize="512" />
      <SrcRect xOff="0" yOff="0" xSize="10000" ySize="10000" />
      <DstRect xOff="410000" yOff="720000" xSize="10000" ySize="10000" />
      <NODATA>-9999</NODATA>
    </ComplexSource>
    <ComplexSource>
      <SourceFilename relativeToVRT="1">10_26/10_26_10m_v3.0_reg_dem.tif</SourceFilename>
      <SourceBand>1</SourceBand>
      <SourceProperties RasterXSize="10000" RasterYSize="10000" DataType="Float32" BlockXSize="512" BlockYSize="512" />
      <SrcRect xOff="0" yOff="0" xSize="10000" ySize="10000" />
      <DstRect xOff="250000" yOff="710000" xSize="10000" ySize="10000" />
      <NODATA>-9999</NODATA>
    </ComplexSource>
    <ComplexSource>
      <SourceFilename relativeToVRT="1">10_27/10_27_10m_v3.0_reg_dem.tif</SourceFilename>
      <SourceBand>1</SourceBand>
      <SourceProperties RasterXSize="10000" RasterYSize="10000" DataType="Float32" BlockXSize="512" BlockYSize="512" />
      <SrcRect xOff="0" yOff="0" xSize="10000" ySize="10000" />
      <DstRect xOff="260000" yOff="710000" xSize="10000" ySize="10000" />
      <NODATA>-9999</NODATA>
    </ComplexSource>
    <ComplexSource>
      <SourceFilename relativeToVRT="1">10_28/10_28_10m_v3.0_reg_dem.tif</SourceFilename>
      <SourceBand>1</SourceBand>
      <SourceProperties RasterXSize="10000" RasterYSize="10000" DataType="Float32" BlockXSize="512" BlockYSize="512" />
      <SrcRect xOff="0" yOff="0" xSize="10000" ySize="10000" />
      <DstRect xOff="270000" yOff="710000" xSize="10000" ySize="10000" />
      <NODATA>-9999</NODATA>
    </ComplexSource>
    <ComplexSource>
      <SourceFilename relativeToVRT="1">10_29/10_29_10m_v3.0_reg_dem.tif</SourceFilename>
      <SourceBand>1</SourceBand>
      <SourceProperties RasterXSize="10000" RasterYSize="10000" DataType="Float32" BlockXSize="512" BlockYSize="512" />
      <SrcRect xOff="0" yOff="0" xSize="10000" ySize="10000" />
      <DstRect xOff="280000" yOff="710000" xSize="10000" ySize="10000" />
      <NODATA>-9999</NODATA>
    </ComplexSource>
    <ComplexSource>
      <SourceFilename relativeToVRT="1">10_30/10_30_10m_v3.0_reg_dem.tif</SourceFilename>
      <SourceBand>1</SourceBand>
      <SourceProperties RasterXSize="10000" RasterYSize="10000" DataType="Float32" BlockXSize="512" BlockYSize="512" />
      <SrcRect xOff="0" yOff="0" xSize="10000" ySize="10000" />
      <DstRect xOff="290000" yOff="710000" xSize="10000" ySize="10000" />
      <NODATA>-9999</NODATA>
    </ComplexSource>
    <ComplexSource>
      <SourceFilename relativeToVRT="1">10_38/10_38_10m_v3.0_reg_dem.tif</SourceFilename>
      <SourceBand>1</SourceBand>
      <SourceProperties RasterXSize="10000" RasterYSize="10000" DataType="Float32" BlockXSize="512" BlockYSize="512" />
      <SrcRect xOff="0" yOff="0" xSize="10000" ySize="10000" />
      <DstRect xOff="370000" yOff="710000" xSize="10000" ySize="10000" />
      <NODATA>-9999</NODATA>
    </ComplexSource>
    <ComplexSource>
      <SourceFilename relativeToVRT="1">10_39/10_39_10m_v3.0_reg_dem.tif</SourceFilename>
      <SourceBand>1</SourceBand>
      <SourceProperties RasterXSize="10000" RasterYSize="10000" DataType="Float32" BlockXSize="512" BlockYSize="512" />
      <SrcRect xOff="0" yOff="0" xSize="10000" ySize="10000" />
      <DstRect xOff="380000" yOff="710000" xSize="10000" ySize="10000" />
      <NODATA>-9999</NODATA>
    </ComplexSource>
    <ComplexSource>
      <SourceFilename relativeToVRT="1">10_40/10_40_10m_v3.0_reg_dem.tif</SourceFilename>
      <SourceBand>1</SourceBand>
      <SourceProperties RasterXSize="10000" RasterYSize="10000" DataType="Float32" BlockXSize="512" BlockYSize="512" />
      <SrcRect xOff="0" yOff="0" xSize="10000" ySize="10000" />
      <DstRect xOff="390000" yOff="710000" xSize="10000" ySize="10000" />
      <NODATA>-9999</NODATA>
    </ComplexSource>
    <ComplexSource>
      <SourceFilename relativeToVRT="1">10_41/10_41_10m_v3.0_reg_dem.tif</SourceFilename>
      <SourceBand>1</SourceBand>
      <SourceProperties RasterXSize="10000" RasterYSize="10000" DataType="Float32" BlockXSize="512" BlockYSize="512" />
      <SrcRect xOff="0" yOff="0" xSize="10000" ySize="10000" />
      <DstRect xOff="400000" yOff="710000" xSize="10000" ySize="10000" />
      <NODATA>-9999</NODATA>
    </ComplexSource>
    <ComplexSource>
      <SourceFilename relativeToVRT="1">10_42/10_42_10m_v3.0_reg_dem.tif</SourceFilename>
      <SourceBand>1</SourceBand>
      <SourceProperties RasterXSize="10000" RasterYSize="10000" DataType="Float32" BlockXSize="512" BlockYSize="512" />
      <SrcRect xOff="0" yOff="0" xSize="10000" ySize="10000" />
      <DstRect xOff="410000" yOff="710000" xSize="10000" ySize="10000" />
      <NODATA>-9999</NODATA>
    </ComplexSource>
    <ComplexSource>
      <SourceFilename relativeToVRT="1">11_24/11_24_10m_v3.0_reg_dem.tif</SourceFilename>
      <SourceBand>1</SourceBand>
      <SourceProperties RasterXSize="10000" RasterYSize="10000" DataType="Float32" BlockXSize="512" BlockYSize="512" />
      <SrcRect xOff="0" yOff="0" xSize="10000" ySize="10000" />
      <DstRect xOff="230000" yOff="700000" xSize="10000" ySize="10000" />
      <NODATA>-9999</NODATA>
    </ComplexSource>
    <ComplexSource>
      <SourceFilename relativeToVRT="1">11_25/11_25_10m_v3.0_reg_dem.tif</SourceFilename>
      <SourceBand>1</SourceBand>
      <SourceProperties RasterXSize="10000" RasterYSize="10000" DataType="Float32" BlockXSize="512" BlockYSize="512" />
      <SrcRect xOff="0" yOff="0" xSize="10000" ySize="10000" />
      <DstRect xOff="240000" yOff="700000" xSize="10000" ySize="10000" />
      <NODATA>-9999</NODATA>
    </ComplexSource>
    <ComplexSource>
      <SourceFilename relativeToVRT="1">11_26/11_26_10m_v3.0_reg_dem.tif</SourceFilename>
      <SourceBand>1</SourceBand>
      <SourceProperties RasterXSize="10000" RasterYSize="10000" DataType="Float32" BlockXSize="512" BlockYSize="512" />
      <SrcRect xOff="0" yOff="0" xSize="10000" ySize="10000" />
      <DstRect xOff="250000" yOff="700000" xSize="10000" ySize="10000" />
      <NODATA>-9999</NODATA>
    </ComplexSource>
    <ComplexSource>
      <SourceFilename relativeToVRT="1">11_27/11_27_10m_v3.0_reg_dem.tif</SourceFilename>
      <SourceBand>1</SourceBand>
      <SourceProperties RasterXSize="10000" RasterYSize="10000" DataType="Float32" BlockXSize="512" BlockYSize="512" />
      <SrcRect xOff="0" yOff="0" xSize="10000" ySize="10000" />
      <DstRect xOff="260000" yOff="700000" xSize="10000" ySize="10000" />
      <NODATA>-9999</NODATA>
    </ComplexSource>
    <ComplexSource>
      <SourceFilename relativeToVRT="1">11_28/11_28_10m_v3.0_reg_dem.tif</SourceFilename>
      <SourceBand>1</SourceBand>
      <SourceProperties RasterXSize="10000" RasterYSize="10000" DataType="Float32" BlockXSize="512" BlockYSize="512" />
      <SrcRect xOff="0" yOff="0" xSize="10000" ySize="10000" />
      <DstRect xOff="270000" yOff="700000" xSize="10000" ySize="10000" />
      <NODATA>-9999</NODATA>
    </ComplexSource>
    <ComplexSource>
      <SourceFilename relativeToVRT="1">11_29/11_29_10m_v3.0_reg_dem.tif</SourceFilename>
      <SourceBand>1</SourceBand>
      <SourceProperties RasterXSize="10000" RasterYSize="10000" DataType="Float32" BlockXSize="512" BlockYSize="512" />
      <SrcRect xOff="0" yOff="0" xSize="10000" ySize="10000" />
      <DstRect xOff="280000" yOff="700000" xSize="10000" ySize="10000" />
      <NODATA>-9999</NODATA>
    </ComplexSource>
    <ComplexSource>
      <SourceFilename relativeToVRT="1">11_30/11_30_10m_v3.0_reg_dem.tif</SourceFilename>
      <SourceBand>1</SourceBand>
      <SourceProperties RasterXSize="10000" RasterYSize="10000" DataType="Float32" BlockXSize="512" BlockYSize="512" />
      <SrcRect xOff="0" yOff="0" xSize="10000" ySize="10000" />
      <DstRect xOff="290000" yOff="700000" xSize="10000" ySize="10000" />
      <NODATA>-9999</NODATA>
    </ComplexSource>
    <ComplexSource>
      <SourceFilename relativeToVRT="1">11_37/11_37_10m_v3.0_reg_dem.tif</SourceFilename>
      <SourceBand>1</SourceBand>
      <SourceProperties RasterXSize="10000" RasterYSize="10000" DataType="Float32" BlockXSize="512" BlockYSize="512" />
      <SrcRect xOff="0" yOff="0" xSize="10000" ySize="10000" />
      <DstRect xOff="360000" yOff="700000" xSize="10000" ySize="10000" />
      <NODATA>-9999</NODATA>
    </ComplexSource>
    <ComplexSource>
      <SourceFilename relativeToVRT="1">11_38/11_38_10m_v3.0_reg_dem.tif</SourceFilename>
      <SourceBand>1</SourceBand>
      <SourceProperties RasterXSize="10000" RasterYSize="10000" DataType="Float32" BlockXSize="512" BlockYSize="512" />
      <SrcRect xOff="0" yOff="0" xSize="10000" ySize="10000" />
      <DstRect xOff="370000" yOff="700000" xSize="10000" ySize="10000" />
      <NODATA>-9999</NODATA>
    </ComplexSource>
    <ComplexSource>
      <SourceFilename relativeToVRT="1">11_39/11_39_10m_v3.0_reg_dem.tif</SourceFilename>
      <SourceBand>1</SourceBand>
      <SourceProperties RasterXSize="10000" RasterYSize="10000" DataType="Float32" BlockXSize="512" BlockYSize="512" />
      <SrcRect xOff="0" yOff="0" xSize="10000" ySize="10000" />
      <DstRect xOff="380000" yOff="700000" xSize="10000" ySize="10000" />
      <NODATA>-9999</NODATA>
    </ComplexSource>
    <ComplexSource>
      <SourceFilename relativeToVRT="1">11_40/11_40_10m_v3.0_reg_dem.tif</SourceFilename>
      <SourceBand>1</SourceBand>
      <SourceProperties RasterXSize="10000" RasterYSize="10000" DataType="Float32" BlockXSize="512" BlockYSize="512" />
      <SrcRect xOff="0" yOff="0" xSize="10000" ySize="10000" />
      <DstRect xOff="390000" yOff="700000" xSize="10000" ySize="10000" />
      <NODATA>-9999</NODATA>
    </ComplexSource>
    <ComplexSource>
      <SourceFilename relativeToVRT="1">11_41/11_41_10m_v3.0_reg_dem.tif</SourceFilename>
      <SourceBand>1</SourceBand>
      <SourceProperties RasterXSize="10000" RasterYSize="10000" DataType="Float32" BlockXSize="512" BlockYSize="512" />
      <SrcRect xOff="0" yOff="0" xSize="10000" ySize="10000" />
      <DstRect xOff="400000" yOff="700000" xSize="10000" ySize="10000" />
      <NODATA>-9999</NODATA>
    </ComplexSource>
    <ComplexSource>
      <SourceFilename relativeToVRT="1">11_42/11_42_10m_v3.0_reg_dem.tif</SourceFilename>
      <SourceBand>1</SourceBand>
      <SourceProperties RasterXSize="10000" RasterYSize="10000" DataType="Float32" BlockXSize="512" BlockYSize="512" />
      <SrcRect xOff="0" yOff="0" xSize="10000" ySize="10000" />
      <DstRect xOff="410000" yOff="700000" xSize="10000" ySize="10000" />
      <NODATA>-9999</NODATA>
    </ComplexSource>
    <ComplexSource>
      <SourceFilename relativeToVRT="1">11_43/11_43_10m_v3.0_reg_dem.tif</SourceFilename>
      <SourceBand>1</SourceBand>
      <SourceProperties RasterXSize="10000" RasterYSize="10000" DataType="Float32" BlockXSize="512" BlockYSize="512" />
      <SrcRect xOff="0" yOff="0" xSize="10000" ySize="10000" />
      <DstRect xOff="420000" yOff="700000" xSize="10000" ySize="10000" />
      <NODATA>-9999</NODATA>
    </ComplexSource>
    <ComplexSource>
      <SourceFilename relativeToVRT="1">12_23/12_23_10m_v3.0_reg_dem.tif</SourceFilename>
      <SourceBand>1</SourceBand>
      <SourceProperties RasterXSize="10000" RasterYSize="10000" DataType="Float32" BlockXSize="512" BlockYSize="512" />
      <SrcRect xOff="0" yOff="0" xSize="10000" ySize="10000" />
      <DstRect xOff="220000" yOff="690000" xSize="10000" ySize="10000" />
      <NODATA>-9999</NODATA>
    </ComplexSource>
    <ComplexSource>
      <SourceFilename relativeToVRT="1">12_24/12_24_10m_v3.0_reg_dem.tif</SourceFilename>
      <SourceBand>1</SourceBand>
      <SourceProperties RasterXSize="10000" RasterYSize="10000" DataType="Float32" BlockXSize="512" BlockYSize="512" />
      <SrcRect xOff="0" yOff="0" xSize="10000" ySize="10000" />
      <DstRect xOff="230000" yOff="690000" xSize="10000" ySize="10000" />
      <NODATA>-9999</NODATA>
    </ComplexSource>
    <ComplexSource>
      <SourceFilename relativeToVRT="1">12_25/12_25_10m_v3.0_reg_dem.tif</SourceFilename>
      <SourceBand>1</SourceBand>
      <SourceProperties RasterXSize="10000" RasterYSize="10000" DataType="Float32" BlockXSize="512" BlockYSize="512" />
      <SrcRect xOff="0" yOff="0" xSize="10000" ySize="10000" />
      <DstRect xOff="240000" yOff="690000" xSize="10000" ySize="10000" />
      <NODATA>-9999</NODATA>
    </ComplexSource>
    <ComplexSource>
      <SourceFilename relativeToVRT="1">12_26/12_26_10m_v3.0_reg_dem.tif</SourceFilename>
      <SourceBand>1</SourceBand>
      <SourceProperties RasterXSize="10000" RasterYSize="10000" DataType="Float32" BlockXSize="512" BlockYSize="512" />
      <SrcRect xOff="0" yOff="0" xSize="10000" ySize="10000" />
      <DstRect xOff="250000" yOff="690000" xSize="10000" ySize="10000" />
      <NODATA>-9999</NODATA>
    </ComplexSource>
    <ComplexSource>
      <SourceFilename relativeToVRT="1">12_27/12_27_10m_v3.0_reg_dem.tif</SourceFilename>
      <SourceBand>1</SourceBand>
      <SourceProperties RasterXSize="10000" RasterYSize="10000" DataType="Float32" BlockXSize="512" BlockYSize="512" />
      <SrcRect xOff="0" yOff="0" xSize="10000" ySize="10000" />
      <DstRect xOff="260000" yOff="690000" xSize="10000" ySize="10000" />
      <NODATA>-9999</NODATA>
    </ComplexSource>
    <ComplexSource>
      <SourceFilename relativeToVRT="1">12_28/12_28_10m_v3.0_reg_dem.tif</SourceFilename>
      <SourceBand>1</SourceBand>
      <SourceProperties RasterXSize="10000" RasterYSize="10000" DataType="Float32" BlockXSize="512" BlockYSize="512" />
      <SrcRect xOff="0" yOff="0" xSize="10000" ySize="10000" />
      <DstRect xOff="270000" yOff="690000" xSize="10000" ySize="10000" />
      <NODATA>-9999</NODATA>
    </ComplexSource>
    <ComplexSource>
      <SourceFilename relativeToVRT="1">12_29/12_29_10m_v3.0_reg_dem.tif</SourceFilename>
      <SourceBand>1</SourceBand>
      <SourceProperties RasterXSize="10000" RasterYSize="10000" DataType="Float32" BlockXSize="512" BlockYSize="512" />
      <SrcRect xOff="0" yOff="0" xSize="10000" ySize="10000" />
      <DstRect xOff="280000" yOff="690000" xSize="10000" ySize="10000" />
      <NODATA>-9999</NODATA>
    </ComplexSource>
    <ComplexSource>
      <SourceFilename relativeToVRT="1">12_30/12_30_10m_v3.0_reg_dem.tif</SourceFilename>
      <SourceBand>1</SourceBand>
      <SourceProperties RasterXSize="10000" RasterYSize="10000" DataType="Float32" BlockXSize="512" BlockYSize="512" />
      <SrcRect xOff="0" yOff="0" xSize="10000" ySize="10000" />
      <DstRect xOff="290000" yOff="690000" xSize="10000" ySize="10000" />
      <NODATA>-9999</NODATA>
    </ComplexSource>
    <ComplexSource>
      <SourceFilename relativeToVRT="1">12_31/12_31_10m_v3.0_reg_dem.tif</SourceFilename>
      <SourceBand>1</SourceBand>
      <SourceProperties RasterXSize="10000" RasterYSize="10000" DataType="Float32" BlockXSize="512" BlockYSize="512" />
      <SrcRect xOff="0" yOff="0" xSize="10000" ySize="10000" />
      <DstRect xOff="300000" yOff="690000" xSize="10000" ySize="10000" />
      <NODATA>-9999</NODATA>
    </ComplexSource>
    <ComplexSource>
      <SourceFilename relativeToVRT="1">12_37/12_37_10m_v3.0_reg_dem.tif</SourceFilename>
      <SourceBand>1</SourceBand>
      <SourceProperties RasterXSize="10000" RasterYSize="10000" DataType="Float32" BlockXSize="512" BlockYSize="512" />
      <SrcRect xOff="0" yOff="0" xSize="10000" ySize="10000" />
      <DstRect xOff="360000" yOff="690000" xSize="10000" ySize="10000" />
      <NODATA>-9999</NODATA>
    </ComplexSource>
    <ComplexSource>
      <SourceFilename relativeToVRT="1">12_38/12_38_10m_v3.0_reg_dem.tif</SourceFilename>
      <SourceBand>1</SourceBand>
      <SourceProperties RasterXSize="10000" RasterYSize="10000" DataType="Float32" BlockXSize="512" BlockYSize="512" />
      <SrcRect xOff="0" yOff="0" xSize="10000" ySize="10000" />
      <DstRect xOff="370000" yOff="690000" xSize="10000" ySize="10000" />
      <NODATA>-9999</NODATA>
    </ComplexSource>
    <ComplexSource>
      <SourceFilename relativeToVRT="1">12_39/12_39_10m_v3.0_reg_dem.tif</SourceFilename>
      <SourceBand>1</SourceBand>
      <SourceProperties RasterXSize="10000" RasterYSize="10000" DataType="Float32" BlockXSize="512" BlockYSize="512" />
      <SrcRect xOff="0" yOff="0" xSize="10000" ySize="10000" />
      <DstRect xOff="380000" yOff="690000" xSize="10000" ySize="10000" />
      <NODATA>-9999</NODATA>
    </ComplexSource>
    <ComplexSource>
      <SourceFilename relativeToVRT="1">12_40/12_40_10m_v3.0_reg_dem.tif</SourceFilename>
      <SourceBand>1</SourceBand>
      <SourceProperties RasterXSize="10000" RasterYSize="10000" DataType="Float32" BlockXSize="512" BlockYSize="512" />
      <SrcRect xOff="0" yOff="0" xSize="10000" ySize="10000" />
      <DstRect xOff="390000" yOff="690000" xSize="10000" ySize="10000" />
      <NODATA>-9999</NODATA>
    </ComplexSource>
